BEGIN:VCALENDAR
VERSION:2.0
PRODID:-//The Italian Vine - ECPv6.8.1//NONSGML v1.0//EN
CALSCALE:GREGORIAN
METHOD:PUBLISH
X-ORIGINAL-URL:https://theitalianvine.com
X-WR-CALDESC:Events for The Italian Vine
REFRESH-INTERVAL;VALUE=DURATION:PT1H
X-Robots-Tag:noindex
X-PUBLISHED-TTL:PT1H
BEGIN:VTIMEZONE
TZID:America/Chicago
BEGIN:DAYLIGHT
TZOFFSETFROM:-0600
TZOFFSETTO:-0500
TZNAME:CDT
DTSTART:20240310T080000
END:DAYLIGHT
BEGIN:STANDARD
TZOFFSETFROM:-0500
TZOFFSETTO:-0600
TZNAME:CST
DTSTART:20241103T070000
END:STANDARD
END:VTIMEZONE
BEGIN:VEVENT
DTSTART;TZID=America/Chicago:20240622T140000
DTEND;TZID=America/Chicago:20240622T150000
DTSTAMP:20260421T033150
CREATED:20240618T184214Z
LAST-MODIFIED:20240618T184214Z
UID:699-1719064800-1719068400@theitalianvine.com
SUMMARY:Dante Wine School: Friuli with Mark McDonald
DESCRIPTION:Friuli\, Italy is one of the most compelling wine regions on earth. While most famous for amazing white wines\, the red wines from Friuli are a rare treat that any wine lover will enjoy. At this Dante’s Italian Wine School this Saturday\, you will Join Mark McDonald owner of The Italian Vine: Wine Distributors as he walks us through the great wines of Friuli\, Italy (pictured middle along with Grant Gaston of The Italian Vine). You will learn about some very well-known varieties and some new ones. All of the wines you will taste in this class are amazing!\n\n\nMark started the Italian Vine in 2008 after living in Naples for two years. The Italian Vine is now a leader in supplying great Italian wines in the Nebraska market. We are proud of the longstanding relationship between Dante and The Italian Vine.\n\n\nRegister here: Dante Wine School: FRIULI W/ MARK MCDONALD \n\n\nSaturday\, June 22nd @ 2pm\, $40 per person
URL:https://theitalianvine.com/event/dante-wine-school-friuli-with-mark-mcdonald/
LOCATION:Dante\, 16901 Wright Plaza\, Omaha\, Nebraska\, 68130
ATTACH;FMTTYPE=image/jpeg:https://theitalianvine.com/wp-content/uploads/2024/06/Friuli-Wine-School.jpg
END:VEVENT
END:VCALENDAR