BEGIN:VCALENDAR
VERSION:2.0
PRODID:-//The Italian Vine - ECPv6.8.1//NONSGML v1.0//EN
CALSCALE:GREGORIAN
METHOD:PUBLISH
X-WR-CALNAME:The Italian Vine
X-ORIGINAL-URL:https://theitalianvine.com
X-WR-CALDESC:Events for The Italian Vine
REFRESH-INTERVAL;VALUE=DURATION:PT1H
X-Robots-Tag:noindex
X-PUBLISHED-TTL:PT1H
BEGIN:VTIMEZONE
TZID:America/Chicago
BEGIN:DAYLIGHT
TZOFFSETFROM:-0600
TZOFFSETTO:-0500
TZNAME:CDT
DTSTART:20260308T080000
END:DAYLIGHT
BEGIN:STANDARD
TZOFFSETFROM:-0500
TZOFFSETTO:-0600
TZNAME:CST
DTSTART:20261101T070000
END:STANDARD
END:VTIMEZONE
BEGIN:VEVENT
DTSTART;TZID=America/Chicago:20260520T173000
DTEND;TZID=America/Chicago:20260520T200000
DTSTAMP:20260420T022229
CREATED:20260419T163920Z
LAST-MODIFIED:20260419T163920Z
UID:2099-1779298200-1779307200@theitalianvine.com
SUMMARY:Villa Amore Third Wednesday Wine Tasting
DESCRIPTION:Theme: TBA \nDetails coming soon! \nCost: 5 wines and Bruschetta for $10\n \nOpen House: 5:30–8:00 p.m. \nReservations Recommended: 402.476.5300 or make your reservation online at VillaAmore.com
URL:https://theitalianvine.com/event/villa-amore-third-wednesday-wine-tasting-11/
LOCATION:Villa Amore\, 5353 North 27th Street\, Lincoln\, NE\, 68521\, United States
ATTACH;FMTTYPE=image/jpeg:https://theitalianvine.com/wp-content/uploads/2024/01/video_poster-1.jpg
END:VEVENT
BEGIN:VEVENT
DTSTART;TZID=America/Chicago:20260521T173000
DTEND;TZID=America/Chicago:20260521T200000
DTSTAMP:20260420T022229
CREATED:20260419T164026Z
LAST-MODIFIED:20260419T164026Z
UID:2101-1779384600-1779393600@theitalianvine.com
SUMMARY:Art & Soul Third Thursday Wine Tasting
DESCRIPTION:Theme: TBA \nDetails coming soon! \nCost: 3 wines for $15\, perfect with optional charcuterie boards \nOpen House: 5:30–8:00 p.m. \nNo Reservations required\, for questions please call 402.483.1744.
URL:https://theitalianvine.com/event/art-soul-third-thursday-wine-tasting-12/
LOCATION:Art & Soul\, 5740 Hidcote Drive\, Lincoln\, NE\, 68516\, United States
ATTACH;FMTTYPE=image/webp:https://theitalianvine.com/wp-content/uploads/2024/01/2e58c1_c40fa99a4811438f81611577ae36ea07mv2.webp
END:VEVENT
END:VCALENDAR