BEGIN:VCALENDAR
VERSION:2.0
PRODID:-//The Italian Vine - ECPv6.8.1//NONSGML v1.0//EN
CALSCALE:GREGORIAN
METHOD:PUBLISH
X-WR-CALNAME:The Italian Vine
X-ORIGINAL-URL:https://theitalianvine.com
X-WR-CALDESC:Events for The Italian Vine
REFRESH-INTERVAL;VALUE=DURATION:PT1H
X-Robots-Tag:noindex
X-PUBLISHED-TTL:PT1H
BEGIN:VTIMEZONE
TZID:America/Chicago
BEGIN:DAYLIGHT
TZOFFSETFROM:-0600
TZOFFSETTO:-0500
TZNAME:CDT
DTSTART:20260308T080000
END:DAYLIGHT
BEGIN:STANDARD
TZOFFSETFROM:-0500
TZOFFSETTO:-0600
TZNAME:CST
DTSTART:20261101T070000
END:STANDARD
END:VTIMEZONE
BEGIN:VEVENT
DTSTART;TZID=America/Chicago:20260506T173000
DTEND;TZID=America/Chicago:20260506T203000
DTSTAMP:20260421T214244
CREATED:20260419T163116Z
LAST-MODIFIED:20260419T163304Z
UID:2092-1778088600-1778099400@theitalianvine.com
SUMMARY:Florio's First Wednesday Wine Tasting
DESCRIPTION:Theme: TBA \nDetails coming soon! \nCost: 5 wines + Bruschetta for $10 \nSeated Tasting: 5:30 p.m. or 7:15 p.m. \nReservations Required: Please call 402.423.5576 or make your reservation online at Florio’s Italian Restaurant & Grille
URL:https://theitalianvine.com/event/florios-first-wednesday-wine-tasting-17/
LOCATION:Florio’s Italian Restaurant & Grille\, 7300 South 14th Street\, Lincoln\, NE\, 68512\, United States
ATTACH;FMTTYPE=image/jpeg:https://theitalianvine.com/wp-content/uploads/2024/01/florios.jpg
END:VEVENT
BEGIN:VEVENT
DTSTART;TZID=America/Chicago:20260507T173000
DTEND;TZID=America/Chicago:20260507T203000
DTSTAMP:20260421T214244
CREATED:20260419T163247Z
LAST-MODIFIED:20260419T163247Z
UID:2094-1778175000-1778185800@theitalianvine.com
SUMMARY:Camela's First Thursday Wine Tasting
DESCRIPTION:Theme: TBA \nDetails coming soon! \nCost: 5 wines for $14\, plus optional cheese plate course for $16 \nSeated Tasting: 5:30 or 6:45 p.m. \nReservations Recommended: Please call 402.489.0005 or make your reservation online at CarmelasBistroandWineBar.com
URL:https://theitalianvine.com/event/camelas-first-thursday-wine-tasting/
LOCATION:Carmela’s Bistro\, 4141 Pioneer Woods Drive\, Lincoln\, NE\, 68506\, United States
ATTACH;FMTTYPE=image/png:https://theitalianvine.com/wp-content/uploads/2024/02/Carmelas.png
END:VEVENT
BEGIN:VEVENT
DTSTART;TZID=America/Chicago:20260513T173000
DTEND;TZID=America/Chicago:20260513T190000
DTSTAMP:20260421T214244
CREATED:20260420T195258Z
LAST-MODIFIED:20260421T004913Z
UID:2104-1778693400-1778698800@theitalianvine.com
SUMMARY:Wilderness Ridge's Pinot on the Patio
DESCRIPTION:Theme: A side-by-side comparison Pinot Grigio tasting \n\nFeaturing selections like the 2025 Protea Pinot Grigio from Western Cape\, South Africa and the 2025 Anne Amie Vineyards Pinot Gris from Willamette Valley\, Oregon\, this curated lineup highlights the range and character of this classic white wine across regions. An evening to sip\, explore\, and enjoy a relaxed journey through the glass\n\nCost: $30 per person\, free for wine club members \nSeated tasting begins at 5:30pm and last approximately 1.5 hours. \nCall 402-434-5118 to reserve your spot today!
URL:https://theitalianvine.com/event/wilderness-ridges-pinot-on-the-patio/
LOCATION:Wildernes Ridge\, 1800 Wilderness Woods Place\, Lincoln\, NE\, 68512\, United States
ATTACH;FMTTYPE=image/png:https://theitalianvine.com/wp-content/uploads/2025/12/Wilderness-Ridge.png
END:VEVENT
BEGIN:VEVENT
DTSTART;TZID=America/Chicago:20260513T173000
DTEND;TZID=America/Chicago:20260513T203000
DTSTAMP:20260421T214244
CREATED:20260419T163544Z
LAST-MODIFIED:20260419T163758Z
UID:2097-1778693400-1778704200@theitalianvine.com
SUMMARY:Napoli's on 48th Second Wednesday Wine Tasting
DESCRIPTION:Theme: Wines from the Italian Coast \nSip your way through hand-selected wines from Campania\, Tuscany\, Abruzzo\, and Puglia — perfectly curated for a night of great taste\, great company\, and a little Italian escape right here in Lincoln \nCost: 5 wines + Bruschetta for $10 \nSeated Tasting: 5:30 p.m. or 7:15 p.m. \nReservations Required: (531) 500-3540
URL:https://theitalianvine.com/event/napolis-on-48th-second-wednesday-wine-tasting/
LOCATION:Napoli’s\, 5571 S 48th St\, Lincoln\, NE\, 68516\, United States
ATTACH;FMTTYPE=image/png:https://theitalianvine.com/wp-content/uploads/2025/08/Napolis-S-48th-St.png
END:VEVENT
BEGIN:VEVENT
DTSTART;TZID=America/Chicago:20260520T173000
DTEND;TZID=America/Chicago:20260520T200000
DTSTAMP:20260421T214244
CREATED:20260419T163920Z
LAST-MODIFIED:20260420T195320Z
UID:2099-1779298200-1779307200@theitalianvine.com
SUMMARY:Villa Amore's Third Wednesday Wine Tasting
DESCRIPTION:Theme: TBA \nDetails coming soon! \nCost: 5 wines and Bruschetta for $10\n \nOpen House: 5:30–8:00 p.m. \nReservations Recommended: 402.476.5300 or make your reservation online at VillaAmore.com
URL:https://theitalianvine.com/event/villa-amore-third-wednesday-wine-tasting-11/
LOCATION:Villa Amore\, 5353 North 27th Street\, Lincoln\, NE\, 68521\, United States
ATTACH;FMTTYPE=image/jpeg:https://theitalianvine.com/wp-content/uploads/2024/01/video_poster-1.jpg
END:VEVENT
BEGIN:VEVENT
DTSTART;TZID=America/Chicago:20260521T173000
DTEND;TZID=America/Chicago:20260521T200000
DTSTAMP:20260421T214244
CREATED:20260419T164026Z
LAST-MODIFIED:20260420T195412Z
UID:2101-1779384600-1779393600@theitalianvine.com
SUMMARY:Art & Soul's Third Thursday Wine Tasting
DESCRIPTION:Theme: TBA \nDetails coming soon! \nCost: 3 wines for $15\, perfect with optional charcuterie boards \nOpen House: 5:30–8:00 p.m. \nNo Reservations required\, for questions please call 402.483.1744.
URL:https://theitalianvine.com/event/art-soul-third-thursday-wine-tasting-12/
LOCATION:Art & Soul\, 5740 Hidcote Drive\, Lincoln\, NE\, 68516\, United States
ATTACH;FMTTYPE=image/webp:https://theitalianvine.com/wp-content/uploads/2024/01/2e58c1_c40fa99a4811438f81611577ae36ea07mv2.webp
END:VEVENT
END:VCALENDAR